BEGIN:VCALENDAR
VERSION:2.0
PRODID:-//Collin County Young Republicans - ECPv5.5.0//NONSGML v1.0//EN
CALSCALE:GREGORIAN
METHOD:PUBLISH
X-WR-CALNAME:Collin County Young Republicans
X-ORIGINAL-URL:https://collinyr.com
X-WR-CALDESC:Events for Collin County Young Republicans
BEGIN:VTIMEZONE
TZID:UTC
BEGIN:STANDARD
TZOFFSETFROM:+0000
TZOFFSETTO:+0000
TZNAME:UTC
DTSTART:20200101T000000
END:STANDARD
END:VTIMEZONE
BEGIN:VEVENT
DTSTART;TZID=UTC:20200121T183000
DTEND;TZID=UTC:20200121T203000
DTSTAMP:20260422T070618
CREATED:20201110T220803Z
LAST-MODIFIED:20201110T220803Z
UID:411-1579631400-1579638600@collinyr.com
SUMMARY:2020 Primary Candidate Meet & Greet
DESCRIPTION:The Collin YRs invite you to join us for our 2020 Collin County Republican Candidate Meet and Greet! \nEnjoy happy hour and some networking and socializing with the candidates running in the 2020 primary!   \nWe have invited all candidates that represent Collin County to meet YOU! \nThe candidates will all get to introduce themselves but otherwise\, this is a completely informal event to allow you to meet the candidates! \nNeed not be a Collin YR member to attend (but we hope you join!!) and friends\, family\, and first timers are all welcome!
URL:https://collinyr.com/event/2020-primary-candidate-meet-greet/
LOCATION:Woodtop Tavern\, 8408 Preston Rd\, Plano\, TX\, 75024\, US
ATTACH;FMTTYPE=image/jpeg:https://collinyr.com/wp-content/uploads/2020/11/411_image_81898565_10162837200010394_743879715667836928_o.jpg
END:VEVENT
END:VCALENDAR