BEGIN:VCALENDAR
VERSION:2.0
PRODID:-//Collin County Young Republicans - ECPv5.5.0//NONSGML v1.0//EN
CALSCALE:GREGORIAN
METHOD:PUBLISH
X-WR-CALNAME:Collin County Young Republicans
X-ORIGINAL-URL:https://collinyr.com
X-WR-CALDESC:Events for Collin County Young Republicans
BEGIN:VTIMEZONE
TZID:UTC
BEGIN:STANDARD
TZOFFSETFROM:+0000
TZOFFSETTO:+0000
TZNAME:UTC
DTSTART:20190101T000000
END:STANDARD
END:VTIMEZONE
BEGIN:VEVENT
DTSTART;TZID=UTC:20191203T190000
DTEND;TZID=UTC:20191203T210000
DTSTAMP:20260422T071327
CREATED:20201110T220804Z
LAST-MODIFIED:20201110T220804Z
UID:413-1575399600-1575406800@collinyr.com
SUMMARY:A Discussion with Governor Abbott's Child Sex Trafficking Team
DESCRIPTION:Join us on Tuesday\, December 3rd for a discussion with Governor Abbott’s Child Sex Trafficking Team. \nGovernor Abbott has proclaimed January as Human Trafficking Prevention Month in Texas\, urging Texans to work together to protect the vulnerable\, help victims find healing\, and bring offenders to justice. While Texas is a national leader in the fight against human trafficking\, human trafficking victims\, including the estimated 79\,000 child and young adult victims of sex trafficking in Texas\, are counting on all of us to ramp up our efforts to help them find freedom and justice.  \nThe Governor’s Child Sex Trafficking Team (CSTT) exists to educate and empower Texans to do just that. Our vision is a state where children are free from sexual exploitation. Our mission is to help prevent victimization\, to identify and recover victims\, to provide them coordinated services that help them heal and thrive\, and to bring them justice by holding their exploiters accountable. We do this by working with public and private partners across Texas and\, because human trafficking knows no boundaries\, beyond Texas.
URL:https://collinyr.com/event/a-discussion-with-governor-abbotts-child-sex-trafficking-team/
LOCATION:Collin County Republican Party\, 2963 West 15th Street Suite 2981\, Plano\, TX\, 75075\, US
ATTACH;FMTTYPE=image/jpeg:https://collinyr.com/wp-content/uploads/2020/11/413_image_76697292_10162526946075394_5243940929936556032_o.jpg
END:VEVENT
END:VCALENDAR