BEGIN:VCALENDAR
VERSION:2.0
PRODID:-//Collin County Young Republicans - ECPv5.5.0//NONSGML v1.0//EN
CALSCALE:GREGORIAN
METHOD:PUBLISH
X-WR-CALNAME:Collin County Young Republicans
X-ORIGINAL-URL:https://collinyr.com
X-WR-CALDESC:Events for Collin County Young Republicans
BEGIN:VTIMEZONE
TZID:UTC
BEGIN:STANDARD
TZOFFSETFROM:+0000
TZOFFSETTO:+0000
TZNAME:UTC
DTSTART:20210101T000000
END:STANDARD
END:VTIMEZONE
BEGIN:VEVENT
DTSTART;TZID=UTC:20210525T183000
DTEND;TZID=UTC:20210525T210000
DTSTAMP:20260422T070741
CREATED:20210511T230300Z
LAST-MODIFIED:20210511T230428Z
UID:612-1621967400-1621976400@collinyr.com
SUMMARY:Back the Blue with Sheriff Skinner
DESCRIPTION:Meet Sheriff Skinner and learn how law enforcement works at the County level of government. \nCollin County Sheriff Jim Skinner keeps our communities safe. How does he do it? Join us on Tuesday\, May 25 at WoodTop Tavern to hear from the Sheriff an overview of law enforcement at the county level\, as well as what his department is doing to stay on top of the issues Collin County is facing.  \nThe event will begin at 6:30 pm\, and the Sheriff will speak at 7:00 pm. Light appetizers will be provided. \nAnyone\, regardless of age or membership status\, may attend this event.
URL:https://collinyr.com/event/back-the-blue-with-sheriff-skinner/
LOCATION:Woodtop Tavern\, 8408 Preston Rd\, Plano\, TX\, 75024\, US
END:VEVENT
END:VCALENDAR