BEGIN:VCALENDAR
VERSION:2.0
PRODID:-//Collin County Young Republicans - ECPv5.5.0//NONSGML v1.0//EN
CALSCALE:GREGORIAN
METHOD:PUBLISH
X-WR-CALNAME:Collin County Young Republicans
X-ORIGINAL-URL:https://collinyr.com
X-WR-CALDESC:Events for Collin County Young Republicans
BEGIN:VTIMEZONE
TZID:UTC
BEGIN:STANDARD
TZOFFSETFROM:+0000
TZOFFSETTO:+0000
TZNAME:UTC
DTSTART:20210101T000000
END:STANDARD
END:VTIMEZONE
BEGIN:VEVENT
DTSTART;TZID=UTC:20210713T183000
DTEND;TZID=UTC:20210713T213000
DTSTAMP:20260422T071205
CREATED:20210809T171618Z
LAST-MODIFIED:20210809T171618Z
UID:639-1626201000-1626211800@collinyr.com
SUMMARY:Christmas in July: Collin YR Board Elections
DESCRIPTION:Christmas in July\n\n\nThe Collin County Young Republicans will be holding our annual Board Elections on July 13\, along with a Christmas in July social!  \nDemocracy has never been so festive. Christmas attire is encouraged\, as well as stopping by the counter to try Rudy’s delicious BBQ on the way in. \nDoors open at 6:30 PM\, followed by Club Officer Elections at 7:00 PM.
URL:https://collinyr.com/event/christmas-in-july-collin-yr-board-elections/
LOCATION:Rudy’s “Country Store” and Bar-B-Q\, 1790 North Central Expressway\, Allen\, TX 75002\, Allen\, TX\, 75002\, US
ATTACH;FMTTYPE=image/jpeg:https://collinyr.com/wp-content/uploads/2021/08/639_image.jpg
END:VEVENT
END:VCALENDAR