BEGIN:VCALENDAR
VERSION:2.0
PRODID:-//Collin County Young Republicans - ECPv5.5.0//NONSGML v1.0//EN
CALSCALE:GREGORIAN
METHOD:PUBLISH
X-WR-CALNAME:Collin County Young Republicans
X-ORIGINAL-URL:https://collinyr.com
X-WR-CALDESC:Events for Collin County Young Republicans
BEGIN:VTIMEZONE
TZID:America/Chicago
BEGIN:DAYLIGHT
TZOFFSETFROM:-0600
TZOFFSETTO:-0500
TZNAME:CDT
DTSTART:20190310T080000
END:DAYLIGHT
BEGIN:STANDARD
TZOFFSETFROM:-0500
TZOFFSETTO:-0600
TZNAME:CST
DTSTART:20191103T070000
END:STANDARD
END:VTIMEZONE
BEGIN:VEVENT
DTSTART;TZID=America/Chicago:20190401T183000
DTEND;TZID=America/Chicago:20190401T203000
DTSTAMP:20260422T070655
CREATED:20190315T072800Z
LAST-MODIFIED:20190329T031531Z
UID:38-1554143400-1554150600@collinyr.com
SUMMARY:City Council Candidate Forum
DESCRIPTION:Golden Corridor and Collin County Young Republicans invite you to our City Council Candidate Forum! \nCity council candidates from McKinney\, Allen\, Plano\, and Frisco will take YOUR questions! Each city’s candidates will have a set time to answer as many questions as possible in a 20 minute span per city.  \nStarting at 6:30\, come socialize with members of GC and CCYR.\nProgram will start promptly at 7:00. \nHope to see you there!  \nGuests\, friends\, and family are welcome to attend!
URL:https://collinyr.com/event/city-council-candidate-forum/
LOCATION:Central Park Campus Conference Center\, 2400 Community Avenue\, McKinney\, TX\, 75071\, United States
END:VEVENT
END:VCALENDAR