BEGIN:VCALENDAR
VERSION:2.0
PRODID:-//Collin County Young Republicans - ECPv5.5.0//NONSGML v1.0//EN
CALSCALE:GREGORIAN
METHOD:PUBLISH
X-WR-CALNAME:Collin County Young Republicans
X-ORIGINAL-URL:https://collinyr.com
X-WR-CALDESC:Events for Collin County Young Republicans
BEGIN:VTIMEZONE
TZID:UTC
BEGIN:STANDARD
TZOFFSETFROM:+0000
TZOFFSETTO:+0000
TZNAME:UTC
DTSTART:20190101T000000
END:STANDARD
END:VTIMEZONE
BEGIN:VEVENT
DTSTART;TZID=UTC:20190716T190000
DTEND;TZID=UTC:20190716T203000
DTSTAMP:20260422T071025
CREATED:20190703T060127Z
LAST-MODIFIED:20190703T060127Z
UID:194-1563303600-1563309000@collinyr.com
SUMMARY:Collin YR Officer Elections & YRNF Preview
DESCRIPTION:Join the Collin YRs for our July meeting where we will be having our 2019-2020 officer elections and previewing what will happen the next week at the Young Republicans National Federation convention in Omaha! \nPlease join us starting at 6:30pm for happy hour and dinner. \nElections will be run starting at 7:00pm. Those members eligible to vote and run for office based on our constitution will be notified separately. \nOnce elections are complete\, our Texas YR chairman and members of the Collin YR board will discuss our upcoming YRNF Convention in July and how Collin YR fits into the larger world of state and national Young Republican organizations! \nWe welcome everyone to join us!
URL:https://collinyr.com/event/collin-yr-officer-elections-yrnf-preview/
LOCATION:Kelly’s at The Village\, 190 E Stacy Road\, Ste 1204\, Allen\, TX\, 75002\, United States
END:VEVENT
END:VCALENDAR