BEGIN:VCALENDAR
VERSION:2.0
PRODID:-//Collin County Young Republicans - ECPv5.5.0//NONSGML v1.0//EN
CALSCALE:GREGORIAN
METHOD:PUBLISH
X-WR-CALNAME:Collin County Young Republicans
X-ORIGINAL-URL:https://collinyr.com
X-WR-CALDESC:Events for Collin County Young Republicans
BEGIN:VTIMEZONE
TZID:UTC
BEGIN:STANDARD
TZOFFSETFROM:+0000
TZOFFSETTO:+0000
TZNAME:UTC
DTSTART:20200101T000000
END:STANDARD
END:VTIMEZONE
BEGIN:VEVENT
DTSTART;TZID=UTC:20200619T170000
DTEND;TZID=UTC:20200619T193000
DTSTAMP:20260422T071210
CREATED:20201110T220759Z
LAST-MODIFIED:20201110T220759Z
UID:404-1592586000-1592595000@collinyr.com
SUMMARY:Collin YR SD Kick Off In Person Happy Hour
DESCRIPTION:Collin YRs invite you to leave your house\, celebrate Friday\, see your friends live and in person\, and get pumped up for your Senate District conventions! \nWe will be meeting IN PERSON at Nine Band Brewery in Allen.  We will be outside on their patio so that everyone may gather in a socially responsible manner. \nWe want to use this as an opportunity to reignite the political season and get excited for the next day’s Senate District Conventions!
URL:https://collinyr.com/event/collin-yr-sd-kick-off-in-person-happy-hour/
LOCATION:Nine Band Brewing\, 9 Prestige Cir\, Allen\, TX\, 75002\, US
ATTACH;FMTTYPE=image/png:https://collinyr.com/wp-content/uploads/2020/11/404_image_101068657_10163711641745394_3781357153781022720_n.png
END:VEVENT
END:VCALENDAR