BEGIN:VCALENDAR
VERSION:2.0
PRODID:-//Collin County Young Republicans - ECPv5.5.0//NONSGML v1.0//EN
CALSCALE:GREGORIAN
METHOD:PUBLISH
X-WR-CALNAME:Collin County Young Republicans
X-ORIGINAL-URL:https://collinyr.com
X-WR-CALDESC:Events for Collin County Young Republicans
BEGIN:VTIMEZONE
TZID:America/Chicago
BEGIN:DAYLIGHT
TZOFFSETFROM:-0600
TZOFFSETTO:-0500
TZNAME:CDT
DTSTART:20190310T080000
END:DAYLIGHT
BEGIN:STANDARD
TZOFFSETFROM:-0500
TZOFFSETTO:-0600
TZNAME:CST
DTSTART:20191103T070000
END:STANDARD
END:VTIMEZONE
BEGIN:VEVENT
DTSTART;TZID=America/Chicago:20190618T184500
DTEND;TZID=America/Chicago:20190618T210000
DTSTAMP:20260422T115318
CREATED:20190315T073438Z
LAST-MODIFIED:20190603T231834Z
UID:44-1560883500-1560891600@collinyr.com
SUMMARY:Collin YRs present Stephen Moore\, author of Trumponomics
DESCRIPTION:PLEASE RSVP ON EVENTBRITE \nCome meet and hear from Stephen Moore\, author of Trumponomics! We will be holding the event at Collin College Frisco Conference Center on June 18 at 7PM. Everyone in attendance will receive a free copy of Trumponomics! \nSpecial guest appearance and meet-n-greet with filmmaker\, author\, and former NAACP president\, C. L. Bryant! \nStephen Moore is the senior economic contributor for FreedomWorks. He communicates FreedomWorks’ vision for a pro-growth economic agenda to grassroots activists and media nationwide\, as well as conducting original economic analysis. Stephen previously served as president of the Club for Growth\, chief economist of the Heritage Foundation\, and as a member of the Wall Street Journal editorial board. \nTRUMPONOMICS – Donald Trump promised the American people a transformative change in economic policy after eight years of stagnation under Obama. But he didn’t adopt a conventional left or right economic agenda. His is a new economic populism that combines some conventional Republican ideas–tax cuts\, deregulation\, more power to the states–with more traditional Democratic issues such as trade protectionism and infrastructure spending. It also mixes in important populist issues such as immigration reform\, pressuring the Europeans to pay for more of their own defense\, and keeping America first. \nIn Trumponomics\, conservative economists Stephen Moore and Arthur B. Laffer offer a well-informed defense of the president’s approach to trade\, taxes\, employment\, infrastructure\, and other economic policies. Moore and Laffer worked as senior economic advisors to Donald Trump in 2016. They traveled with him\, frequently met with his political and economic teams\, worked on his speeches\, and represented him as surrogates. They are currently members of the Trump Advisory Council and still meet with him regularly. In Trumponomics\, they offer an insider’s view on how Trump operates in public and behind closed doors\, his priorities and passions\, and his greatest attributes and liabilities. \nTrump is betting his presidency that he can create an economic revival in America’s industrial heartland. Can he really bring jobs back to the rust belt? Can he cut taxes and bring the debt down? Above all\, does he have the personal discipline\, the vision\, the right team\, and the right strategy to pull off his ambitious economic goals? Moore and Laffer believe that he can pull it off and that Trumponomics will usher in a new era of prosperity for all Americans.
URL:https://collinyr.com/event/collin-yrs-present-stephen-moore-author-of-trumponomics/
LOCATION:Collin College Frisco Conference Center\, 9700 Wade Blvd.\, Frisco\, TX\, 75035\, United States
END:VEVENT
END:VCALENDAR