BEGIN:VCALENDAR
VERSION:2.0
PRODID:-//Collin County Young Republicans - ECPv5.5.0//NONSGML v1.0//EN
CALSCALE:GREGORIAN
METHOD:PUBLISH
X-WR-CALNAME:Collin County Young Republicans
X-ORIGINAL-URL:https://collinyr.com
X-WR-CALDESC:Events for Collin County Young Republicans
BEGIN:VTIMEZONE
TZID:America/Chicago
BEGIN:DAYLIGHT
TZOFFSETFROM:-0600
TZOFFSETTO:-0500
TZNAME:CDT
DTSTART:20240310T080000
END:DAYLIGHT
BEGIN:STANDARD
TZOFFSETFROM:-0500
TZOFFSETTO:-0600
TZNAME:CST
DTSTART:20241103T070000
END:STANDARD
END:VTIMEZONE
BEGIN:VEVENT
DTSTART;TZID=America/Chicago:20240910T183000
DTEND;TZID=America/Chicago:20240910T220000
DTSTAMP:20260422T070745
CREATED:20240904T005132Z
LAST-MODIFIED:20240904T005132Z
UID:674-1725993000-1726005600@collinyr.com
SUMMARY:Connecting with the Latino Community
DESCRIPTION:Join the YRs Tuesday\, September 10th!\nWe will be featuring Orlando Sanchez Founder\, Texas Latino Conservatives!\nHear a unique insight into the Latino community and effective strategies for connecting through shared conservative values. \n\nThen hang out afterwards to watch the presidential debate!\n\n\n\n\n\n6:30 PM Social7:00 PM Speaker Start8:00 PM Presidential Debate\n\n\n\nStaybridge Suites Meeting Rooms8355 Parkwood BlvdPlano\, TX 75024\n\n\n\n\n\nOrlando Sanchez was elected Harris County Treasurer in November of 2006\, the first immigrant to be chosen county-wide by the voters for a non-judicial office. He served in that office until December 2018\, overseeing Harris County’s multiple bank accounts\, paying the county’s expenses and serving as an independent set of eyes in overseeing spending of county taxpayer dollars. \nSanchez immigrated to Houston when his father was hired by former Harris County Judge Roy Hofheinz to be one of two Spanish announcers for the Colt 45s Baseball Club and then the Houston Astros. Sanchez graduated from Bellaire High School\, joined the U.S. Air Force\, and enrolled at the University of Houston. \nOrlando is the founder of Texas Latino Conservatives and is currently traveling the State building Latino participation in the political process.
URL:https://collinyr.com/event/connecting-with-the-latino-community/
LOCATION:Staybridge Suites\, 8355 Parkwood Blvd\, Plano\, TX\, 75024\, United States
ATTACH;FMTTYPE=image/jpeg:https://collinyr.com/wp-content/uploads/2024/09/9-10-2024-Connecting-With-The-Latino-Community.jpg
END:VEVENT
END:VCALENDAR