BEGIN:VCALENDAR
VERSION:2.0
PRODID:-//Collin County Young Republicans - ECPv5.5.0//NONSGML v1.0//EN
CALSCALE:GREGORIAN
METHOD:PUBLISH
X-WR-CALNAME:Collin County Young Republicans
X-ORIGINAL-URL:https://collinyr.com
X-WR-CALDESC:Events for Collin County Young Republicans
BEGIN:VTIMEZONE
TZID:America/Chicago
BEGIN:DAYLIGHT
TZOFFSETFROM:-0600
TZOFFSETTO:-0500
TZNAME:CDT
DTSTART:20190310T080000
END:DAYLIGHT
BEGIN:STANDARD
TZOFFSETFROM:-0500
TZOFFSETTO:-0600
TZNAME:CST
DTSTART:20191103T070000
END:STANDARD
END:VTIMEZONE
BEGIN:VEVENT
DTSTART;TZID=America/Chicago:20190325T190000
DTEND;TZID=America/Chicago:20190325T203000
DTSTAMP:20260422T070411
CREATED:20190315T072441Z
LAST-MODIFIED:20190315T072651Z
UID:35-1553540400-1553545800@collinyr.com
SUMMARY:HRCNT General Meeting
DESCRIPTION:The Hispanic Republican Club of North Texas is excited to announce that we will be co-hosting our monthly meeting with five other conservative clubs: \nAfrican-American Republican Club\nCollin County Conservative Republicans\nCollin County Young Republicans\nGolden Corridor Republican Women\nMcKinney Tea Party \nWe will be meeting on March 25 at Cottonwood Creek Church at 7 pm in room B109. We encourage you to come around 6:30 pm.\nOur special guest speaker for the evening will be Alma Perez\, vice chairwoman of the Texas Republican Party! She will be speaking on her recent trip with the Texas YR leadership to the border and the situation there. Join us for a night of fellowship and fun!
URL:https://collinyr.com/event/hrcnt-general-meeting/
LOCATION:Cottonwood Creek Church\, 1015 Sam Rayburn Tollway\, Allen\, TX\, 75013\, United States
END:VEVENT
END:VCALENDAR