BEGIN:VCALENDAR
VERSION:2.0
PRODID:-//Collin County Young Republicans - ECPv5.5.0//NONSGML v1.0//EN
CALSCALE:GREGORIAN
METHOD:PUBLISH
X-WR-CALNAME:Collin County Young Republicans
X-ORIGINAL-URL:https://collinyr.com
X-WR-CALDESC:Events for Collin County Young Republicans
BEGIN:VTIMEZONE
TZID:America/Chicago
BEGIN:DAYLIGHT
TZOFFSETFROM:-0600
TZOFFSETTO:-0500
TZNAME:CDT
DTSTART:20190310T080000
END:DAYLIGHT
BEGIN:STANDARD
TZOFFSETFROM:-0500
TZOFFSETTO:-0600
TZNAME:CST
DTSTART:20191103T070000
END:STANDARD
END:VTIMEZONE
BEGIN:VEVENT
DTSTART;TZID=America/Chicago:20190406T130000
DTEND;TZID=America/Chicago:20190406T163000
DTSTAMP:20260422T070519
CREATED:20190315T073256Z
LAST-MODIFIED:20190315T073256Z
UID:41-1554555600-1554568200@collinyr.com
SUMMARY:Operation Protect Your Vote Texas!
DESCRIPTION:The Republican Coalition of Collin County is hosting subject matter experts and grassroots leaders from Direct Action Texas\, Grassroots America\, and True Texas Elections as they speak on combating voter fraud to secure free and fair elections.
URL:https://collinyr.com/event/operation-protect-your-vote-texas/
LOCATION:Collin Higher Education Center\, 3452 Spur 399\, McKinney\, TX\, 75069\, United States
END:VEVENT
END:VCALENDAR