BEGIN:VCALENDAR
VERSION:2.0
PRODID:-//Collin County Young Republicans - ECPv5.5.0//NONSGML v1.0//EN
CALSCALE:GREGORIAN
METHOD:PUBLISH
X-WR-CALNAME:Collin County Young Republicans
X-ORIGINAL-URL:https://collinyr.com
X-WR-CALDESC:Events for Collin County Young Republicans
BEGIN:VTIMEZONE
TZID:UTC
BEGIN:STANDARD
TZOFFSETFROM:+0000
TZOFFSETTO:+0000
TZNAME:UTC
DTSTART:20200101T000000
END:STANDARD
END:VTIMEZONE
BEGIN:VEVENT
DTSTART;TZID=UTC:20201117T183000
DTEND;TZID=UTC:20201117T183000
DTSTAMP:20260422T070331
CREATED:20201110T220124Z
LAST-MODIFIED:20201110T220124Z
UID:376-1605637800-1605637800@collinyr.com
SUMMARY:Post-Election Social
DESCRIPTION:Join the Collin County Young Republicans for a post-Election social and celebration that we kept Texas red! \nWe welcome everyone to join us! \nWe will be sitting outside at the tables at Chip’s at the Granite Park Boardwalk.  Chip’s has outdoor heaters so it should be a lovely evening!
URL:https://collinyr.com/event/post-election-social/
LOCATION:Chip’s Old Fashioned Hamburgers – Granite Park\, 5872 Texas 121\, Suite 105\, Plano\, TX\, 75024\, US
ATTACH;FMTTYPE=image/jpeg:https://collinyr.com/wp-content/uploads/2020/11/376_image_123801106_10164447034445394_5419922256907553970_n.jpg
END:VEVENT
END:VCALENDAR