BEGIN:VCALENDAR
VERSION:2.0
PRODID:-//Collin County Young Republicans - ECPv5.5.0//NONSGML v1.0//EN
CALSCALE:GREGORIAN
METHOD:PUBLISH
X-WR-CALNAME:Collin County Young Republicans
X-ORIGINAL-URL:https://collinyr.com
X-WR-CALDESC:Events for Collin County Young Republicans
BEGIN:VTIMEZONE
TZID:UTC
BEGIN:STANDARD
TZOFFSETFROM:+0000
TZOFFSETTO:+0000
TZNAME:UTC
DTSTART:20200101T000000
END:STANDARD
END:VTIMEZONE
BEGIN:VEVENT
DTSTART;TZID=UTC:20201214T180000
DTEND;TZID=UTC:20201214T180000
DTSTAMP:20260422T070519
CREATED:20201202T020325Z
LAST-MODIFIED:20201202T020325Z
UID:472-1607968800-1607968800@collinyr.com
SUMMARY:RCCC Christmas Party
DESCRIPTION:The Republican Coalition of Collin County invites you to our annual Christmas Party! Come celebrate with us at this family friendly event. \nCome for an evening of community\, friendship\, food\, and entertainment for all ages! Activities will include raffles\, a silent auction\, white elephant (bring a gift to receive one)\, and the fan-favorite ugly Christmas outfit contest! \nPlease RSVP on eventbrite at the link provided above.
URL:https://collinyr.com/event/rccc-christmas-party/
LOCATION:Redemption Point Alliance Church\, 107 East Lamar Street\, McKinney\, TX\, 75069\, US
ATTACH;FMTTYPE=image/jpeg:https://collinyr.com/wp-content/uploads/2020/12/472_image_127719822_10164544254135394_9068367446889430820_o.jpg
END:VEVENT
END:VCALENDAR