BEGIN:VCALENDAR
VERSION:2.0
PRODID:-//Collin County Young Republicans - ECPv5.5.0//NONSGML v1.0//EN
CALSCALE:GREGORIAN
METHOD:PUBLISH
X-WR-CALNAME:Collin County Young Republicans
X-ORIGINAL-URL:https://collinyr.com
X-WR-CALDESC:Events for Collin County Young Republicans
BEGIN:VTIMEZONE
TZID:UTC
BEGIN:STANDARD
TZOFFSETFROM:+0000
TZOFFSETTO:+0000
TZNAME:UTC
DTSTART:20200101T000000
END:STANDARD
END:VTIMEZONE
BEGIN:VEVENT
DTSTART;TZID=UTC:20200827T193000
DTEND;TZID=UTC:20200827T223000
DTSTAMP:20260422T070919
CREATED:20201110T220757Z
LAST-MODIFIED:20201110T220757Z
UID:396-1598556600-1598567400@collinyr.com
SUMMARY:RNC Watch Party with CollinGOP
DESCRIPTION:Join the CollinGOP as we watch the final night of the RNC convention\, especially the acceptance speech of President Donald J. Trump!
URL:https://collinyr.com/event/rnc-watch-party-with-collingop/
LOCATION:Collin County Republican Party\, 2963 West 15th Street Suite 2981\, Plano\, TX\, 75075\, US
ATTACH;FMTTYPE=image/jpeg:https://collinyr.com/wp-content/uploads/2020/11/396_image_118470468_1919801964821256_139176007737257365_o.jpg
END:VEVENT
END:VCALENDAR