BEGIN:VCALENDAR
VERSION:2.0
PRODID:-//Collin County Young Republicans - ECPv5.5.0//NONSGML v1.0//EN
CALSCALE:GREGORIAN
METHOD:PUBLISH
X-WR-CALNAME:Collin County Young Republicans
X-ORIGINAL-URL:https://collinyr.com
X-WR-CALDESC:Events for Collin County Young Republicans
BEGIN:VTIMEZONE
TZID:UTC
BEGIN:STANDARD
TZOFFSETFROM:+0000
TZOFFSETTO:+0000
TZNAME:UTC
DTSTART:20190101T000000
END:STANDARD
END:VTIMEZONE
BEGIN:VEVENT
DTSTART;TZID=UTC:20190923T190000
DTEND;TZID=UTC:20190923T210000
DTSTAMP:20260422T071318
CREATED:20190905T231852Z
LAST-MODIFIED:20190905T231852Z
UID:223-1569265200-1569272400@collinyr.com
SUMMARY:Socialism Sucks! Find out why from SMU's Dr. Robert Lawson
DESCRIPTION:Come hear from Dr. Robert Lawson\, author of Socialism Sucks: Two Economists Drink Their Way Through the Unfree World! We will be holding the event at the Collin County GOP HQ on September 23 at 7PM. Socialism Sucks is a bar-crawl through former\, current\, and wannabe socialist countries around the world. Free market economists Robert Lawson and Benjamin Powell travel to countries like Venezuela\, Cuba\, Russia\, and Sweden to investigate the dangers and idiocies of socialism—while drinking a lot of beer. \nDr. Robert Lawson is professor of practice and Jerome M. Fullinwider Centennial Chair in Economic Freedom and is director of the O’Neil Center for Global Markets and Freedom at the Southern Methodist University (SMU) Cox School of Business. Dr. Lawson is a co-author of the widely-cited Economic Freedom of the World annual reports\, which present an economic freedom index for over 150 countries. Lawson has numerous professional publications in journals including Public Choice\, Journal of Economic Behavior and Organization\, Cato Journal\, Kyklos\, Journal of Labor Research\, Journal of Institutional and Theoretical Economics\, and European Journal of Political Economy. Lawson is past-president of the Association of Private Enterprise Education\, a Senior Fellow at the Fraser Institute\, and a member of the Mont Pelerin Society. He earned his PhD and MS in Economics from Florida State University and his BS in Economics from the Honors Tutorial College at Ohio University. Lawson’s research has been cited over 8000 times according to Google Scholar. \n 
URL:https://collinyr.com/event/socialism-sucks-find-out-why-from-smus-dr-robert-lawson/
LOCATION:Collin County Republican Party\, 2963 West 15th Street #2981\, Plano\, TX\, 75075\, United States
END:VEVENT
END:VCALENDAR