BEGIN:VCALENDAR
VERSION:2.0
PRODID:-//Collin County Young Republicans - ECPv5.5.0//NONSGML v1.0//EN
CALSCALE:GREGORIAN
METHOD:PUBLISH
X-WR-CALNAME:Collin County Young Republicans
X-ORIGINAL-URL:https://collinyr.com
X-WR-CALDESC:Events for Collin County Young Republicans
BEGIN:VTIMEZONE
TZID:UTC
BEGIN:STANDARD
TZOFFSETFROM:+0000
TZOFFSETTO:+0000
TZNAME:UTC
DTSTART:20200101T000000
END:STANDARD
END:VTIMEZONE
BEGIN:VEVENT
DTSTART;TZID=UTC:20200911T180000
DTEND;TZID=UTC:20200913T140000
DTSTAMP:20260422T070653
CREATED:20201110T220755Z
LAST-MODIFIED:20201110T220755Z
UID:391-1599847200-1600005600@collinyr.com
SUMMARY:Texas YR Deployment for Jeff Leach
DESCRIPTION:Join TYRF as we deploy to house district HD67 in Collin County to support the campaign of Jeff Leach https://jeffleach.com/. \nREGISTER HERE: https://forms.gle/ThjYEGsS6PiL8qsu6
URL:https://collinyr.com/event/texas-yr-deployment-for-jeff-leach/
ATTACH;FMTTYPE=image/jpeg:https://collinyr.com/wp-content/uploads/2020/11/391_image_118383425_4655858601121236_3514198344803660571_n.jpg
END:VEVENT
END:VCALENDAR