BEGIN:VCALENDAR
VERSION:2.0
PRODID:-//Collin County Young Republicans - ECPv5.5.0//NONSGML v1.0//EN
CALSCALE:GREGORIAN
METHOD:PUBLISH
X-WR-CALNAME:Collin County Young Republicans
X-ORIGINAL-URL:https://collinyr.com
X-WR-CALDESC:Events for Collin County Young Republicans
BEGIN:VTIMEZONE
TZID:UTC
BEGIN:STANDARD
TZOFFSETFROM:+0000
TZOFFSETTO:+0000
TZNAME:UTC
DTSTART:20210101T000000
END:STANDARD
END:VTIMEZONE
BEGIN:VEVENT
DTSTART;VALUE=DATE:20210423
DTEND;VALUE=DATE:20210425
DTSTAMP:20260422T071204
CREATED:20210329T223243Z
LAST-MODIFIED:20210329T223243Z
UID:535-1619136000-1619308799@collinyr.com
SUMMARY:Texas YR Deployment for Plano Municipals with Cat Parks
DESCRIPTION:Collin County Young Republicans and Texas Young Republicans are excited to announce a statewide deployment on April 23 and 24 for our THREE (yes 3!!!) Collin YR members running for Plano office:\n\nAnthony Ricciardelli for Plano City Council Place 2\nJustin Adcock for Plano City Council Place 4\nLynn Walling for Plano ISD School Board Place 3\n\nand… there’s more! Republican Party of Texas Vice Chair (and fellow Young Republican) Cat Parks will be joining us for the full weekend! \nSign up now and plan for a fun Friday night with Cat and our candidates and a full day of blockwalking on Saturday! \nhttps://texasyr.gop/deploy…/registration-plano-municipals/
URL:https://collinyr.com/event/texas-yr-deployment-for-plano-municipals-with-cat-parks/
END:VEVENT
END:VCALENDAR