BEGIN:VCALENDAR
VERSION:2.0
PRODID:-//Collin County Young Republicans - ECPv5.5.0//NONSGML v1.0//EN
CALSCALE:GREGORIAN
METHOD:PUBLISH
X-WR-CALNAME:Collin County Young Republicans
X-ORIGINAL-URL:https://collinyr.com
X-WR-CALDESC:Events for Collin County Young Republicans
BEGIN:VTIMEZONE
TZID:UTC
BEGIN:STANDARD
TZOFFSETFROM:+0000
TZOFFSETTO:+0000
TZNAME:UTC
DTSTART:20210101T000000
END:STANDARD
END:VTIMEZONE
BEGIN:VEVENT
DTSTART;TZID=UTC:20210423T183000
DTEND;TZID=UTC:20210423T210000
DTSTAMP:20260422T083530
CREATED:20210414T034926Z
LAST-MODIFIED:20210414T035121Z
UID:592-1619202600-1619211600@collinyr.com
SUMMARY:Why Local Elections Matter with Cat Parks
DESCRIPTION:Local government impacts many aspects of our lives. From city councils to school boards\, we need Republican leadership at the local level. Republican Party of Texas Vice Chair Cat Parks will be coming to speak about why you should get involved and make a difference in the upcoming May 1st elections.\n\nDinner will be provided\, however we encourage you to purchase your own beer. This event will also serve as the kickoff to our Texas YR Deployment on the following Saturday for three of our members running for local office.
URL:https://collinyr.com/event/why-local-elections-matter-with-cat-parks/
LOCATION:Bitter Sisters Brewery\, 5103 Surveyor Blvd\, Addison\, TX\, 75001\, United States
END:VEVENT
END:VCALENDAR